BEGIN:VCALENDAR
VERSION:2.0
PRODID:-//SESRA - ECPv6.15.20//NONSGML v1.0//EN
CALSCALE:GREGORIAN
METHOD:PUBLISH
X-WR-CALNAME:SESRA
X-ORIGINAL-URL:https://sesra.ussquash.com
X-WR-CALDESC:Events for SESRA
REFRESH-INTERVAL;VALUE=DURATION:PT1H
X-Robots-Tag:noindex
X-PUBLISHED-TTL:PT1H
BEGIN:VTIMEZONE
TZID:UTC
BEGIN:STANDARD
TZOFFSETFROM:+0000
TZOFFSETTO:+0000
TZNAME:UTC
DTSTART:20220101T000000
END:STANDARD
END:VTIMEZONE
BEGIN:VEVENT
DTSTART;VALUE=DATE:20230520
DTEND;VALUE=DATE:20230522
DTSTAMP:20260424T085922
CREATED:20230419T133933Z
LAST-MODIFIED:20230419T134826Z
UID:1231-1684540800-1684713599@sesra.ussquash.com
SUMMARY:US Squash Atlanta Championship 2023
DESCRIPTION:     \n\nWhat: Atlanta Tornados vs. Philadelphia Lightning\nWhere: Atlanta Community Squash (1019 Collier Rd NW)\nWhen: Friday\, January 30\, 2026\nTime: Meet & Greet (4:30pm to 6:00pm)\, Match starts at 6:30pm (try to be there by 6:00pm for the best seating options)\n\nOn Friday\, January 30\, the Atlanta Tornados host the defending NSL champions\, the Philadelphia Lightning\, for the official 2026 season opener.\n\nThe Tornados will be led by PSA legend Miguel Rodriguez (World #24)\, while World #7 Marwan El Shorbagy heads up the Lightning roster. Both teams … Continue Reading ››
URL:https://sesra.ussquash.com/event/us-squash-atlanta-championship-2023/
LOCATION:Life Time Johns Creek\, 11555 Johns Creek Parkway\, Johns Creek\, GA\, 30097\, United States
CATEGORIES:Adult Tournaments,Juniors Tournaments
ATTACH;FMTTYPE=image/jpeg:https://sesra.ussquash.com/wp-content/uploads/2021/10/e8429449-f60e-4909-a830-b0b90f1ed3f7.jpg
ORGANIZER;CN="Alireza Sanaei":MAILTO:ASanaei@LT.Life
END:VEVENT
END:VCALENDAR