BEGIN:VCALENDAR
VERSION:2.0
PRODID:-//SESRA - ECPv6.15.20//NONSGML v1.0//EN
CALSCALE:GREGORIAN
METHOD:PUBLISH
X-ORIGINAL-URL:https://sesra.ussquash.com
X-WR-CALDESC:Events for SESRA
REFRESH-INTERVAL;VALUE=DURATION:PT1H
X-Robots-Tag:noindex
X-PUBLISHED-TTL:PT1H
BEGIN:VTIMEZONE
TZID:UTC
BEGIN:STANDARD
TZOFFSETFROM:+0000
TZOFFSETTO:+0000
TZNAME:UTC
DTSTART:20230101T000000
END:STANDARD
END:VTIMEZONE
BEGIN:VEVENT
DTSTART;VALUE=DATE:20240823
DTEND;VALUE=DATE:20240826
DTSTAMP:20260421T114746
CREATED:20240710T143742Z
LAST-MODIFIED:20240710T143742Z
UID:1440-1724371200-1724630399@sesra.ussquash.com
SUMMARY:The 22nd Annual Dragon Doc Singles & Doubles Squash Championships & Pro Invitationals
DESCRIPTION:Concourse Athletic Club\n8 Concourse Parkway\nAtlanta\, Georgia 30328\nWednesday\, April 19 - Sunday\, April 23\, 2023\n\n\nConcourse Athletic Club is excited to be hosting  the Atlanta Open on Wednesday\, April 19 - Sunday\, April 23.\n\n 	Fee: $150 Entry Fee\n 	Includes: Dunlop Racket worth $239\, Tournament shirt\, viewing of pro games\, and many more goodies.\n 	Prize: $12\,000\n 	Levels: PSA and Amateur Divisions for men\, women\, and juniors\n 	Registration Deadline: April 19\, 2023
URL:https://sesra.ussquash.com/event/the-22nd-annual-dragon-doc-singles-doubles-squash-championships-pro-invitationals/
LOCATION:Atlanta Community Squash\, 1019-A Collier Road NW\, Atlanta\, GA\, 30318\, United States
CATEGORIES:Adult Tournaments
ATTACH;FMTTYPE=image/jpeg:https://sesra.ussquash.com/wp-content/uploads/2023/03/ACS-Logo.jpg
ORGANIZER;CN="Mark Heather":MAILTO:mark@atlantacommunitysquash.org
END:VEVENT
BEGIN:VEVENT
DTSTART;VALUE=DATE:20241004
DTEND;VALUE=DATE:20241007
DTSTAMP:20260421T114746
CREATED:20240727T133043Z
LAST-MODIFIED:20241002T154655Z
UID:1458-1728000000-1728259199@sesra.ussquash.com
SUMMARY:2nd Annual Peach State Invitational
DESCRIPTION:Concourse Athletic Club\n8 Concourse Parkway\nAtlanta\, Georgia 30328\nWednesday\, April 19 - Sunday\, April 23\, 2023\n\n\nConcourse Athletic Club is excited to be hosting  the Atlanta Open on Wednesday\, April 19 - Sunday\, April 23.\n\n 	Fee: $150 Entry Fee\n 	Includes: Dunlop Racket worth $239\, Tournament shirt\, viewing of pro games\, and many more goodies.\n 	Prize: $12\,000\n 	Levels: PSA and Amateur Divisions for men\, women\, and juniors\n 	Registration Deadline: April 19\, 2023
URL:https://sesra.ussquash.com/event/1458/
LOCATION:Atlanta Community Squash\, 1019-A Collier Road NW\, Atlanta\, GA\, 30318\, United States
CATEGORIES:Adult Tournaments
ATTACH;FMTTYPE=image/png:https://sesra.ussquash.com/wp-content/uploads/2024/07/Peach-State-Flyer-2024.png
ORGANIZER;CN="Emily Terry":MAILTO:emily@atlantacommunitysquash.org
END:VEVENT
BEGIN:VEVENT
DTSTART;VALUE=DATE:20241026
DTEND;VALUE=DATE:20241028
DTSTAMP:20260421T114746
CREATED:20241002T154446Z
LAST-MODIFIED:20241002T154632Z
UID:1475-1729900800-1730073599@sesra.ussquash.com
SUMMARY:Atlanta Classic 2024
DESCRIPTION:Concourse Athletic Club\n8 Concourse Parkway\nAtlanta\, Georgia 30328\nWednesday\, April 19 - Sunday\, April 23\, 2023\n\n\nConcourse Athletic Club is excited to be hosting  the Atlanta Open on Wednesday\, April 19 - Sunday\, April 23.\n\n 	Fee: $150 Entry Fee\n 	Includes: Dunlop Racket worth $239\, Tournament shirt\, viewing of pro games\, and many more goodies.\n 	Prize: $12\,000\n 	Levels: PSA and Amateur Divisions for men\, women\, and juniors\n 	Registration Deadline: April 19\, 2023
URL:https://sesra.ussquash.com/event/atlanta-classic-2024/
LOCATION:Life Time Sandy Springs\, 5600 Roswell Road\, Sandy Springs\, GA\, 30342\, United States
CATEGORIES:Adult Tournaments
ATTACH;FMTTYPE=image/jpeg:https://sesra.ussquash.com/wp-content/uploads/2024/10/3c7a09e9-07df-ee55-53d3-a39fa13d9d2e.jpg
ORGANIZER;CN="Mo Sanaee":MAILTO:SSanaei@LT.Life
END:VEVENT
BEGIN:VEVENT
DTSTART;TZID=UTC:20241218T080000
DTEND;TZID=UTC:20241222T170000
DTSTAMP:20260421T114746
CREATED:20241016T195709Z
LAST-MODIFIED:20241016T195709Z
UID:1488-1734508800-1734886800@sesra.ussquash.com
SUMMARY:Georgia Open 2024
DESCRIPTION:Concourse Athletic Club\n8 Concourse Parkway\nAtlanta\, Georgia 30328\nWednesday\, April 19 - Sunday\, April 23\, 2023\n\n\nConcourse Athletic Club is excited to be hosting  the Atlanta Open on Wednesday\, April 19 - Sunday\, April 23.\n\n 	Fee: $150 Entry Fee\n 	Includes: Dunlop Racket worth $239\, Tournament shirt\, viewing of pro games\, and many more goodies.\n 	Prize: $12\,000\n 	Levels: PSA and Amateur Divisions for men\, women\, and juniors\n 	Registration Deadline: April 19\, 2023
URL:https://sesra.ussquash.com/event/georgia-open-2024/
LOCATION:Atlanta Community Squash\, 1019-A Collier Road NW\, Atlanta\, GA\, 30318\, United States
CATEGORIES:Adult Tournaments,Juniors Tournaments
ATTACH;FMTTYPE=image/jpeg:https://sesra.ussquash.com/wp-content/uploads/2024/10/094cf1d9-ea41-6652-f793-a494a27dfae4.jpg
ORGANIZER;CN="Andre Maur":MAILTO:Andre@GlobalSquash.com
END:VEVENT
BEGIN:VEVENT
DTSTART;VALUE=DATE:20250517
DTEND;VALUE=DATE:20250518
DTSTAMP:20260421T114746
CREATED:20250501T144345Z
LAST-MODIFIED:20250501T144345Z
UID:1583-1747440000-1747526399@sesra.ussquash.com
SUMMARY:US Squash Atlanta Championship 2025
DESCRIPTION:Concourse Athletic Club\n8 Concourse Parkway\nAtlanta\, Georgia 30328\nWednesday\, April 19 - Sunday\, April 23\, 2023\n\n\nConcourse Athletic Club is excited to be hosting  the Atlanta Open on Wednesday\, April 19 - Sunday\, April 23.\n\n 	Fee: $150 Entry Fee\n 	Includes: Dunlop Racket worth $239\, Tournament shirt\, viewing of pro games\, and many more goodies.\n 	Prize: $12\,000\n 	Levels: PSA and Amateur Divisions for men\, women\, and juniors\n 	Registration Deadline: April 19\, 2023
URL:https://sesra.ussquash.com/event/us-squash-atlanta-championship-2025/
LOCATION:Life Time Sandy Springs\, 5600 Roswell Road\, Sandy Springs\, GA\, 30342\, United States
CATEGORIES:Adult Tournaments,Juniors Tournaments
ATTACH;FMTTYPE=image/jpeg:https://sesra.ussquash.com/wp-content/uploads/2024/04/5e494d3e-7aa5-1775-992d-ff2005634fd3.jpeg
ORGANIZER;CN="Alireza Sanaei":MAILTO:ASanaei@LT.Life
END:VEVENT
BEGIN:VEVENT
DTSTART;VALUE=DATE:20250527
DTEND;VALUE=DATE:20250809
DTSTAMP:20260421T114746
CREATED:20250124T141318Z
LAST-MODIFIED:20250214T163456Z
UID:1518-1748304000-1754697599@sesra.ussquash.com
SUMMARY:2025 Junior Squash Camps at Atlanta Community Squash
DESCRIPTION:Concourse Athletic Club\n8 Concourse Parkway\nAtlanta\, Georgia 30328\nWednesday\, April 19 - Sunday\, April 23\, 2023\n\n\nConcourse Athletic Club is excited to be hosting  the Atlanta Open on Wednesday\, April 19 - Sunday\, April 23.\n\n 	Fee: $150 Entry Fee\n 	Includes: Dunlop Racket worth $239\, Tournament shirt\, viewing of pro games\, and many more goodies.\n 	Prize: $12\,000\n 	Levels: PSA and Amateur Divisions for men\, women\, and juniors\n 	Registration Deadline: April 19\, 2023
URL:https://sesra.ussquash.com/event/2025-junior-squash-camps-at-atlanta-community-squash/
LOCATION:Atlanta Community Squash\, 1019-A Collier Road NW\, Atlanta\, GA\, 30318\, United States
CATEGORIES:Junior Clinics
ATTACH;FMTTYPE=image/jpeg:https://sesra.ussquash.com/wp-content/uploads/2023/03/ACS-Logo.jpg
ORGANIZER;CN="Mark Heather":MAILTO:mark@atlantacommunitysquash.org
END:VEVENT
BEGIN:VEVENT
DTSTART;VALUE=DATE:20250716
DTEND;VALUE=DATE:20250721
DTSTAMP:20260421T114746
CREATED:20250414T200035Z
LAST-MODIFIED:20250414T200035Z
UID:1559-1752624000-1753055999@sesra.ussquash.com
SUMMARY:Summer Camp with Current World #7\, Karim Abdel-Gawad
DESCRIPTION:Concourse Athletic Club\n8 Concourse Parkway\nAtlanta\, Georgia 30328\nWednesday\, April 19 - Sunday\, April 23\, 2023\n\n\nConcourse Athletic Club is excited to be hosting  the Atlanta Open on Wednesday\, April 19 - Sunday\, April 23.\n\n 	Fee: $150 Entry Fee\n 	Includes: Dunlop Racket worth $239\, Tournament shirt\, viewing of pro games\, and many more goodies.\n 	Prize: $12\,000\n 	Levels: PSA and Amateur Divisions for men\, women\, and juniors\n 	Registration Deadline: April 19\, 2023
URL:https://sesra.ussquash.com/event/summer-camp-with-current-world-7-karim-abdel-gawad/
LOCATION:Life Time Sandy Springs\, 5600 Roswell Road\, Sandy Springs\, GA\, 30342\, United States
CATEGORIES:Junior Clinics
ATTACH;FMTTYPE=image/jpeg:https://sesra.ussquash.com/wp-content/uploads/2025/04/bef95fc8-8e6c-a002-4a9e-5586ee11100f.jpg
ORGANIZER;CN="Alireza Sanaei":MAILTO:ASanaei@LT.Life
END:VEVENT
BEGIN:VEVENT
DTSTART;TZID=UTC:20260130T163000
DTEND;TZID=UTC:20260130T200000
DTSTAMP:20260421T114746
CREATED:20260109T161851Z
LAST-MODIFIED:20260109T162144Z
UID:1608-1769790600-1769803200@sesra.ussquash.com
SUMMARY:Atlanta Tornados vs. Philadelphia Lightning
DESCRIPTION:Concourse Athletic Club\n8 Concourse Parkway\nAtlanta\, Georgia 30328\nWednesday\, April 19 - Sunday\, April 23\, 2023\n\n\nConcourse Athletic Club is excited to be hosting  the Atlanta Open on Wednesday\, April 19 - Sunday\, April 23.\n\n 	Fee: $150 Entry Fee\n 	Includes: Dunlop Racket worth $239\, Tournament shirt\, viewing of pro games\, and many more goodies.\n 	Prize: $12\,000\n 	Levels: PSA and Amateur Divisions for men\, women\, and juniors\n 	Registration Deadline: April 19\, 2023
URL:https://sesra.ussquash.com/event/atlanta-tornados-vs-philadelphia-lightning/
LOCATION:Atlanta Community Squash\, 1019-A Collier Road NW\, Atlanta\, GA\, 30318\, United States
CATEGORIES:National Squash League
ATTACH;FMTTYPE=image/png:https://sesra.ussquash.com/wp-content/uploads/2026/01/NSL_RED_BLUE-1-e1767975617657.png
ORGANIZER;CN="Mark Heather":MAILTO:mark@atlantacommunitysquash.org
END:VEVENT
END:VCALENDAR